BEGIN:VCALENDAR
VERSION:2.0
PRODID:icalendar-ruby
CALSCALE:GREGORIAN
METHOD:PUBLISH
BEGIN:VEVENT
DTSTAMP:20260424T114349Z
UID:b53db5b2-2335-437a-b318-7aaeb2a9507e
DTSTART;VALUE=DATE:20160913
DTEND;VALUE=DATE:20160913
DESCRIPTION:Whitney Mesa BMX
LOCATION:1575 Galleria Dr  Henderson NV 89014 USA
SUMMARY:Local Race Single
URL:/site/bmx_races/319892
END:VEVENT
END:VCALENDAR
