BEGIN:VCALENDAR
VERSION:2.0
PRODID:icalendar-ruby
CALSCALE:GREGORIAN
METHOD:PUBLISH
BEGIN:VEVENT
DTSTAMP:20260424T234224Z
UID:0b202dc1-f4ba-4f4a-859a-a11f861cba76
DTSTART;VALUE=DATE:20161104
DTEND;VALUE=DATE:20161104
DESCRIPTION:Rock Hill BMX Supercross Track
LOCATION:1307 Riverwalk Parkway  Rock Hill SC 29730 USA
SUMMARY:Local Race Single
URL:/site/bmx_races/319806
END:VEVENT
END:VCALENDAR
