BEGIN:VCALENDAR
VERSION:2.0
PRODID:icalendar-ruby
CALSCALE:GREGORIAN
METHOD:PUBLISH
BEGIN:VEVENT
DTSTAMP:20260424T230503Z
UID:b4850067-bd82-4647-8d0c-b7ccc50f55ff
DTSTART;VALUE=DATE:20161009
DTEND;VALUE=DATE:20161009
DESCRIPTION:St. Peters BMX
LOCATION:100 Brown Rd  St. Peters MO 63376 USA
SUMMARY:State Final Triple
URL:/site/bmx_races/319041
END:VEVENT
END:VCALENDAR
