BEGIN:VCALENDAR
VERSION:2.0
PRODID:icalendar-ruby
CALSCALE:GREGORIAN
METHOD:PUBLISH
BEGIN:VEVENT
DTSTAMP:20260425T033113Z
UID:9b3bfae1-5b0f-4187-a0da-854578756d04
DTSTART;VALUE=DATE:20160630
DTEND;VALUE=DATE:20160630
DESCRIPTION:Bradley BMX
LOCATION:234 Urbane Rd  Cleveland TN 37312 USA
SUMMARY:Local Race Single
URL:/site/bmx_races/318266
END:VEVENT
END:VCALENDAR
