BEGIN:VCALENDAR
VERSION:2.0
PRODID:icalendar-ruby
CALSCALE:GREGORIAN
METHOD:PUBLISH
BEGIN:VEVENT
DTSTAMP:20260424T131327Z
UID:c5617524-9463-482d-93d3-6b6502e71920
DTSTART;VALUE=DATE:20160620
DTEND;VALUE=DATE:20160620
DESCRIPTION:Squamish BMX Racing Track
LOCATION:1009 Centennial Way  Squamish BC V0N1T0 CAN
SUMMARY:Race for Life Double
URL:/site/bmx_races/318127
END:VEVENT
END:VCALENDAR
