BEGIN:VCALENDAR
VERSION:2.0
PRODID:icalendar-ruby
CALSCALE:GREGORIAN
METHOD:PUBLISH
BEGIN:VEVENT
DTSTAMP:20260424T091946Z
UID:80919544-0017-4ae5-ba00-137aed7be6e5
DTSTART;VALUE=DATE:20160526
DTEND;VALUE=DATE:20160526
DESCRIPTION:Squamish BMX Racing Track
LOCATION:1009 Centennial Way  Squamish BC V0N1T0 CAN
SUMMARY:Local Race Single
URL:/site/bmx_races/318112
END:VEVENT
END:VCALENDAR
