BEGIN:VCALENDAR
VERSION:2.0
PRODID:icalendar-ruby
CALSCALE:GREGORIAN
METHOD:PUBLISH
BEGIN:VEVENT
DTSTAMP:20260425T141958Z
UID:261e63d3-02f1-40b2-9b59-14f11b38755b
DTSTART;VALUE=DATE:20160813
DTEND;VALUE=DATE:20160813
DESCRIPTION:Saugeen Shores BMX Track
LOCATION:600 Tomlinson Dr    Port Elgin Saugeen Shores ON N0H 2C2 CAN
SUMMARY:State Race Double
URL:/site/bmx_races/317850
END:VEVENT
END:VCALENDAR
