BEGIN:VCALENDAR
VERSION:2.0
PRODID:icalendar-ruby
CALSCALE:GREGORIAN
METHOD:PUBLISH
BEGIN:VEVENT
DTSTAMP:20260424T154523Z
UID:6d2bbe18-63b9-4254-b437-ad3155ca4765
DTSTART;VALUE=DATE:20160514
DTEND;VALUE=DATE:20160514
DESCRIPTION:Music City BMX Association
LOCATION:2901 Bell Road  Nashville TN 37217 USA
SUMMARY:Local Race Single
URL:/site/bmx_races/317749
END:VEVENT
END:VCALENDAR
