BEGIN:VCALENDAR
VERSION:2.0
PRODID:icalendar-ruby
CALSCALE:GREGORIAN
METHOD:PUBLISH
BEGIN:VEVENT
DTSTAMP:20260425T010628Z
UID:9df8a360-d4c4-4909-be80-d65bdb0fa33e
DTSTART;VALUE=DATE:20160905
DTEND;VALUE=DATE:20160905
DESCRIPTION:River Valley BMX
LOCATION:229 S German St  New Ulm MN 56073 USA
SUMMARY:Local Race Single
URL:/site/bmx_races/317421
END:VEVENT
END:VCALENDAR
