BEGIN:VCALENDAR
VERSION:2.0
PRODID:icalendar-ruby
CALSCALE:GREGORIAN
METHOD:PUBLISH
BEGIN:VEVENT
DTSTAMP:20260424T094911Z
UID:60cfa57d-f976-4c0c-8faf-bb0cb90de79c
DTSTART;VALUE=DATE:20160806
DTEND;VALUE=DATE:20160806
DESCRIPTION:Oak Creek BMX
LOCATION:648 Riverside Ave  Roseville CA 95678 USA
SUMMARY:Local Race Single
URL:/site/bmx_races/317245
END:VEVENT
END:VCALENDAR
