BEGIN:VCALENDAR
VERSION:2.0
PRODID:icalendar-ruby
CALSCALE:GREGORIAN
METHOD:PUBLISH
BEGIN:VEVENT
DTSTAMP:20260425T204141Z
UID:b9d4bbf4-39d0-45ce-9528-061a1e76307d
DTSTART;VALUE=DATE:20160424
DTEND;VALUE=DATE:20160424
DESCRIPTION:St. Cloud BMX
LOCATION:2401 Peghorn Way  St. Cloud FL 34769 USA
SUMMARY:Local Race Single
URL:/site/bmx_races/316878
END:VEVENT
END:VCALENDAR
