BEGIN:VCALENDAR
VERSION:2.0
PRODID:icalendar-ruby
CALSCALE:GREGORIAN
METHOD:PUBLISH
BEGIN:VEVENT
DTSTAMP:20260424T121207Z
UID:955e9bd5-0430-4e97-aedc-554942ce400a
DTSTART;VALUE=DATE:20160603
DTEND;VALUE=DATE:20160603
DESCRIPTION:Upstate BMX
LOCATION:6416 Silver Hill Rd  Newark NY 14513 USA
SUMMARY:Local Race Single
URL:/site/bmx_races/316568
END:VEVENT
END:VCALENDAR
