BEGIN:VCALENDAR
VERSION:2.0
PRODID:icalendar-ruby
CALSCALE:GREGORIAN
METHOD:PUBLISH
BEGIN:VEVENT
DTSTAMP:20260424T194725Z
UID:9d52edb2-b2ec-48bb-9e09-d85989eb1e32
DTSTART;VALUE=DATE:20160917
DTEND;VALUE=DATE:20160917
DESCRIPTION:Crown Mountain BMX Park
LOCATION:501 Eagle County Drive  El Jebel CO 81623 USA
SUMMARY:Local Race Single
URL:/site/bmx_races/315965
END:VEVENT
END:VCALENDAR
