BEGIN:VCALENDAR
VERSION:2.0
PRODID:icalendar-ruby
CALSCALE:GREGORIAN
METHOD:PUBLISH
BEGIN:VEVENT
DTSTAMP:20260426T004520Z
UID:68f9d0c3-42cd-4508-99f5-88e75cec1ad5
DTSTART;VALUE=DATE:20160802
DTEND;VALUE=DATE:20160802
DESCRIPTION:Rum River BMX
LOCATION:Isanti Parkway Northwest  Isanti MN 55040 USA
SUMMARY:Local Race Single
URL:/site/bmx_races/315689
END:VEVENT
END:VCALENDAR
