BEGIN:VCALENDAR
VERSION:2.0
PRODID:icalendar-ruby
CALSCALE:GREGORIAN
METHOD:PUBLISH
BEGIN:VEVENT
DTSTAMP:20260424T160927Z
UID:14e523b6-e172-4b49-93bd-4026ec426d2b
DTSTART;VALUE=DATE:20160829
DTEND;VALUE=DATE:20160829
DESCRIPTION:Reno Battleborn BMX
LOCATION:Sun Valley Gid Community Park 115 W 6th Ave Sun Valley NV 89433 US
 A
SUMMARY:Local Race Single
URL:/site/bmx_races/315586
END:VEVENT
END:VCALENDAR
