BEGIN:VCALENDAR
VERSION:2.0
PRODID:icalendar-ruby
CALSCALE:GREGORIAN
METHOD:PUBLISH
BEGIN:VEVENT
DTSTAMP:20260425T011737Z
UID:3e7fa51b-2cd8-4ced-a558-aeacd10de2a6
DTSTART;VALUE=DATE:20160925
DTEND;VALUE=DATE:20160925
DESCRIPTION:San Diego BMX
LOCATION:3170 Armstrong Street Behind Kearny Mesa Recreation Center San Die
 go CA 92111 USA
SUMMARY:State Final Triple
URL:/site/bmx_races/315561
END:VEVENT
END:VCALENDAR
