BEGIN:VCALENDAR
VERSION:2.0
PRODID:icalendar-ruby
CALSCALE:GREGORIAN
METHOD:PUBLISH
BEGIN:VEVENT
DTSTAMP:20260424T175806Z
UID:9ac65f46-6ded-4642-849b-6378cb593e87
DTSTART;VALUE=DATE:20160804
DTEND;VALUE=DATE:20160804
DESCRIPTION:Hunterdon County BMX
LOCATION:314 Rt 12 North  Flemington NJ 08822 USA
SUMMARY:Local Race Single
URL:/site/bmx_races/315485
END:VEVENT
END:VCALENDAR
