BEGIN:VCALENDAR
VERSION:2.0
PRODID:icalendar-ruby
CALSCALE:GREGORIAN
METHOD:PUBLISH
BEGIN:VEVENT
DTSTAMP:20260424T154659Z
UID:4282f059-6183-4024-b853-46ce52b299bd
DTSTART;VALUE=DATE:20161015
DTEND;VALUE=DATE:20161015
DESCRIPTION:Music City BMX Association
LOCATION:2901 Bell Road  Nashville TN 37217 USA
SUMMARY:State Pre-Race Double
URL:/site/bmx_races/315008
END:VEVENT
END:VCALENDAR
