BEGIN:VCALENDAR
VERSION:2.0
PRODID:icalendar-ruby
CALSCALE:GREGORIAN
METHOD:PUBLISH
BEGIN:VEVENT
DTSTAMP:20260425T155425Z
UID:32e11aa7-5f30-4dfe-a879-e7487dcf9c88
DTSTART;VALUE=DATE:20160831
DTEND;VALUE=DATE:20160831
DESCRIPTION:Grand Forks BMX
LOCATION:Kettle River Dr & 7th St  Grand Forks BC V0H1H0 CAN
SUMMARY:Local Race Single
URL:/site/bmx_races/314938
END:VEVENT
END:VCALENDAR
