BEGIN:VCALENDAR
VERSION:2.0
PRODID:icalendar-ruby
CALSCALE:GREGORIAN
METHOD:PUBLISH
BEGIN:VEVENT
DTSTAMP:20260425T015417Z
UID:822a63b1-4e69-4f93-ac50-e2bdf60473dd
DTSTART;VALUE=DATE:20160601
DTEND;VALUE=DATE:20160601
DESCRIPTION:Snake River BMX
LOCATION:1860 East 65th South  Idaho Falls ID 83404 USA
SUMMARY:Local Race Single
URL:/site/bmx_races/313642
END:VEVENT
END:VCALENDAR
