BEGIN:VCALENDAR
VERSION:2.0
PRODID:icalendar-ruby
CALSCALE:GREGORIAN
METHOD:PUBLISH
BEGIN:VEVENT
DTSTAMP:20260425T010812Z
UID:9a3bbd6c-bec9-44d4-8324-141affa50e3d
DTSTART;VALUE=DATE:20160417
DTEND;VALUE=DATE:20160417
DESCRIPTION:Waukegan BMX
LOCATION:2785 W Yorkhouse Rd  Waukegan IL 60085 USA
SUMMARY:Local Race Single
URL:/site/bmx_races/313484
END:VEVENT
END:VCALENDAR
