BEGIN:VCALENDAR
VERSION:2.0
PRODID:icalendar-ruby
CALSCALE:GREGORIAN
METHOD:PUBLISH
BEGIN:VEVENT
DTSTAMP:20260424T191616Z
UID:8c468ef4-082b-4df2-83d6-e1b0d98ec3c2
DTSTART;VALUE=DATE:20161023
DTEND;VALUE=DATE:20161023
DESCRIPTION:Spreckels Park BMX
LOCATION:941 Spreckels Ave  Manteca CA 95336 USA
SUMMARY:Local Race Single
URL:/site/bmx_races/313412
END:VEVENT
END:VCALENDAR
