BEGIN:VCALENDAR
VERSION:2.0
PRODID:icalendar-ruby
CALSCALE:GREGORIAN
METHOD:PUBLISH
BEGIN:VEVENT
DTSTAMP:20260424T190146Z
UID:3c49e6db-11dc-49c8-adfc-5badb686e6b0
DTSTART;VALUE=DATE:20160730
DTEND;VALUE=DATE:20160730
DESCRIPTION:Pikes Peak BMX
LOCATION:8270 Lexington Dr   Colorado Springs CO 80920 USA
SUMMARY:Local Race Single
URL:/site/bmx_races/313310
END:VEVENT
END:VCALENDAR
