BEGIN:VCALENDAR
VERSION:2.0
PRODID:icalendar-ruby
CALSCALE:GREGORIAN
METHOD:PUBLISH
BEGIN:VEVENT
DTSTAMP:20260424T161740Z
UID:e31f434a-34b1-4fa6-8450-bbf7c6ba1f8f
DTSTART;VALUE=DATE:20160906
DTEND;VALUE=DATE:20160906
DESCRIPTION:Green Lake BMX
LOCATION:221 W South Street   Spicer MN 56288 USA
SUMMARY:Practice
URL:/site/bmx_races/312972
END:VEVENT
END:VCALENDAR
