BEGIN:VCALENDAR
VERSION:2.0
PRODID:icalendar-ruby
CALSCALE:GREGORIAN
METHOD:PUBLISH
BEGIN:VEVENT
DTSTAMP:20260424T152349Z
UID:715f18d6-88f4-413a-851a-4e5ba0f44663
DTSTART;VALUE=DATE:20160824
DTEND;VALUE=DATE:20160824
DESCRIPTION:Rapid City BMX
LOCATION:626 E Fairmont Blvd  Rapid City SD 57701 USA
SUMMARY:Local Race Single
URL:/site/bmx_races/312655
END:VEVENT
END:VCALENDAR
