BEGIN:VCALENDAR
VERSION:2.0
PRODID:icalendar-ruby
CALSCALE:GREGORIAN
METHOD:PUBLISH
BEGIN:VEVENT
DTSTAMP:20260425T010740Z
UID:4d4b1f8b-752a-43ab-a8f2-0aa295be0d0d
DTSTART;VALUE=DATE:20160317
DTEND;VALUE=DATE:20160317
DESCRIPTION:Shelby Farms BMX
LOCATION:6435 Walnut Grove Rd  Memphis TN 38119 USA
SUMMARY:Local Race Single
URL:/site/bmx_races/312619
END:VEVENT
END:VCALENDAR
