BEGIN:VCALENDAR
VERSION:2.0
PRODID:icalendar-ruby
CALSCALE:GREGORIAN
METHOD:PUBLISH
BEGIN:VEVENT
DTSTAMP:20260425T141942Z
UID:1cbfce97-1c62-49e3-828d-381277932153
DTSTART;VALUE=DATE:20161008
DTEND;VALUE=DATE:20161008
DESCRIPTION:The Hill BMX
LOCATION:709 Sports Way  Elgin IL 60123 USA
SUMMARY:Warnicke Single
URL:/site/bmx_races/312609
END:VEVENT
END:VCALENDAR
