BEGIN:VCALENDAR
VERSION:2.0
PRODID:icalendar-ruby
CALSCALE:GREGORIAN
METHOD:PUBLISH
BEGIN:VEVENT
DTSTAMP:20260424T202314Z
UID:e2628b9a-8e44-4ac7-8b4b-9e42791b45bb
DTSTART;VALUE=DATE:20160910
DTEND;VALUE=DATE:20160910
DESCRIPTION:South Lake Tahoe BMX
LOCATION:1201 Al Tahoe Blvd.  South Lake Tahoe CA 96150 USA
SUMMARY:Warnicke Single
URL:/site/bmx_races/312574
END:VEVENT
END:VCALENDAR
