BEGIN:VCALENDAR
VERSION:2.0
PRODID:icalendar-ruby
CALSCALE:GREGORIAN
METHOD:PUBLISH
BEGIN:VEVENT
DTSTAMP:20260424T152415Z
UID:bb24ab3e-dcf8-4a68-a94a-e972a0411169
DTSTART;VALUE=DATE:20160703
DTEND;VALUE=DATE:20160703
DESCRIPTION:Rockford BMX
LOCATION:4950 Safford Rd  Rockford IL 61101 USA
SUMMARY:Local Race Single
URL:/site/bmx_races/312423
END:VEVENT
END:VCALENDAR
