BEGIN:VCALENDAR
VERSION:2.0
PRODID:icalendar-ruby
CALSCALE:GREGORIAN
METHOD:PUBLISH
BEGIN:VEVENT
DTSTAMP:20260424T094917Z
UID:f0f5daf8-62a6-45ca-adc8-0d2f3133a422
DTSTART;VALUE=DATE:20160529
DTEND;VALUE=DATE:20160529
DESCRIPTION:Rockford BMX
LOCATION:4950 Safford Rd  Rockford IL 61101 USA
SUMMARY:Local Race Single
URL:/site/bmx_races/312413
END:VEVENT
END:VCALENDAR
