BEGIN:VCALENDAR
VERSION:2.0
PRODID:icalendar-ruby
CALSCALE:GREGORIAN
METHOD:PUBLISH
BEGIN:VEVENT
DTSTAMP:20260424T190105Z
UID:bdd78e75-2c8b-4e00-8899-438366a01fa4
DTSTART;VALUE=DATE:20160510
DTEND;VALUE=DATE:20160510
DESCRIPTION:Rad Canyon BMX
LOCATION:5200 W 9800 S  West Jordan UT 84081 USA
SUMMARY:Local Race Single
URL:/site/bmx_races/312270
END:VEVENT
END:VCALENDAR
