BEGIN:VCALENDAR
VERSION:2.0
PRODID:icalendar-ruby
CALSCALE:GREGORIAN
METHOD:PUBLISH
BEGIN:VEVENT
DTSTAMP:20260424T185903Z
UID:4d454c64-17a2-45b5-928a-92c467e6c229
DTSTART;VALUE=DATE:20160429
DTEND;VALUE=DATE:20160429
DESCRIPTION:Black Mountain BMX
LOCATION:24024 N 11th St  Phoenix AZ 85024 USA
SUMMARY:Local Race Single
URL:/site/bmx_races/311248
END:VEVENT
END:VCALENDAR
