BEGIN:VCALENDAR
VERSION:2.0
PRODID:icalendar-ruby
CALSCALE:GREGORIAN
METHOD:PUBLISH
BEGIN:VEVENT
DTSTAMP:20260424T154644Z
UID:c2d1e471-5dad-41a2-8f2e-933d08a41157
DTSTART;VALUE=DATE:20160326
DTEND;VALUE=DATE:20160326
DESCRIPTION:Black Mountain BMX
LOCATION:24024 N 11th St  Phoenix AZ 85024 USA
SUMMARY:Local Race Single
URL:/site/bmx_races/311224
END:VEVENT
END:VCALENDAR
