BEGIN:VCALENDAR
VERSION:2.0
PRODID:icalendar-ruby
CALSCALE:GREGORIAN
METHOD:PUBLISH
BEGIN:VEVENT
DTSTAMP:20260424T202340Z
UID:1a5b55ee-73db-4a4c-84cd-a674013af937
DTSTART;VALUE=DATE:20160515
DTEND;VALUE=DATE:20160515
DESCRIPTION:St. Peters BMX
LOCATION:100 Brown Rd  St. Peters MO 63376 USA
SUMMARY:Local Race Single
URL:/site/bmx_races/311027
END:VEVENT
END:VCALENDAR
