BEGIN:VCALENDAR
VERSION:2.0
PRODID:icalendar-ruby
CALSCALE:GREGORIAN
METHOD:PUBLISH
BEGIN:VEVENT
DTSTAMP:20260424T090200Z
UID:2e31479f-1398-4daf-8e2e-ea152ff8ca62
DTSTART;VALUE=DATE:20160618
DTEND;VALUE=DATE:20160618
DESCRIPTION:Cleves BMX
LOCATION:Henderson Kupfer Rd  Cleves OH 45002 USA
SUMMARY:State Race Double
URL:/site/bmx_races/310987
END:VEVENT
END:VCALENDAR
