BEGIN:VCALENDAR
VERSION:2.0
PRODID:icalendar-ruby
CALSCALE:GREGORIAN
METHOD:PUBLISH
BEGIN:VEVENT
DTSTAMP:20260425T021612Z
UID:456e0d2c-3cb1-4d56-b3e4-a4b78de091b2
DTSTART;VALUE=DATE:20160316
DTEND;VALUE=DATE:20160316
DESCRIPTION:Nellis BMX
LOCATION:4949 E Cheyenne Ave  Las Vegas NV 89115 USA
SUMMARY:Local Race Single
URL:/site/bmx_races/310718
END:VEVENT
END:VCALENDAR
