BEGIN:VCALENDAR
VERSION:2.0
PRODID:icalendar-ruby
CALSCALE:GREGORIAN
METHOD:PUBLISH
BEGIN:VEVENT
DTSTAMP:20260424T154515Z
UID:d61afdca-cbf4-4451-b8cc-5fe245d8e0d5
DTSTART;VALUE=DATE:20160710
DTEND;VALUE=DATE:20160710
DESCRIPTION:Westerville BMX
LOCATION:535 Park Meadow Road  Westerville OH 43081 USA
SUMMARY:Race for Life Single
URL:/site/bmx_races/310666
END:VEVENT
END:VCALENDAR
