BEGIN:VCALENDAR
VERSION:2.0
PRODID:icalendar-ruby
CALSCALE:GREGORIAN
METHOD:PUBLISH
BEGIN:VEVENT
DTSTAMP:20260425T141942Z
UID:7da098ff-84f6-4af0-b7a6-51f8ed28dec2
DTSTART;VALUE=DATE:20160604
DTEND;VALUE=DATE:20160604
DESCRIPTION:The Hill BMX
LOCATION:709 Sports Way  Elgin IL 60123 USA
SUMMARY:Local Race Single
URL:/site/bmx_races/310563
END:VEVENT
END:VCALENDAR
