BEGIN:VCALENDAR
VERSION:2.0
PRODID:icalendar-ruby
CALSCALE:GREGORIAN
METHOD:PUBLISH
BEGIN:VEVENT
DTSTAMP:20260425T171932Z
UID:7c878583-1deb-4165-92b5-558155238945
DTSTART;VALUE=DATE:20160330
DTEND;VALUE=DATE:20160330
DESCRIPTION:Oak Creek BMX
LOCATION:648 Riverside Ave  Roseville CA 95678 USA
SUMMARY:Local Race Single
URL:/site/bmx_races/309145
END:VEVENT
END:VCALENDAR
