BEGIN:VCALENDAR
VERSION:2.0
PRODID:icalendar-ruby
CALSCALE:GREGORIAN
METHOD:PUBLISH
BEGIN:VEVENT
DTSTAMP:20260424T093709Z
UID:ce48f381-877d-46b6-b6d7-01bab9958408
DTSTART;VALUE=DATE:20161215
DTEND;VALUE=DATE:20161215
DESCRIPTION:Lone Star BMX
LOCATION:3950 Eisenhauer Rd  San Antonio TX 78218 USA
SUMMARY:Local Race Single
URL:/site/bmx_races/308871
END:VEVENT
END:VCALENDAR
