BEGIN:VCALENDAR
VERSION:2.0
PRODID:icalendar-ruby
CALSCALE:GREGORIAN
METHOD:PUBLISH
BEGIN:VEVENT
DTSTAMP:20260425T003822Z
UID:a6d63d7c-f463-4218-a464-547e2fa8edbd
DTSTART;VALUE=DATE:20160825
DTEND;VALUE=DATE:20160825
DESCRIPTION:Imagination Glen BMX
LOCATION:2190 N State Rd 149  Portage IN 46304 USA
SUMMARY:Local Race Single
URL:/site/bmx_races/308670
END:VEVENT
END:VCALENDAR
