BEGIN:VCALENDAR
VERSION:2.0
PRODID:icalendar-ruby
CALSCALE:GREGORIAN
METHOD:PUBLISH
BEGIN:VEVENT
DTSTAMP:20260425T015348Z
UID:d8464df6-cef8-4267-89e4-b7ee8fee16a6
DTSTART;VALUE=DATE:20160728
DTEND;VALUE=DATE:20160728
DESCRIPTION:Imagination Glen BMX
LOCATION:2190 N State Rd 149  Portage IN 46304 USA
SUMMARY:Local Race Single
URL:/site/bmx_races/308662
END:VEVENT
END:VCALENDAR
