BEGIN:VCALENDAR
VERSION:2.0
PRODID:icalendar-ruby
CALSCALE:GREGORIAN
METHOD:PUBLISH
BEGIN:VEVENT
DTSTAMP:20260424T104323Z
UID:2cb031c2-2bdf-47f8-86a1-d73dea4d495c
DTSTART;VALUE=DATE:20160417
DTEND;VALUE=DATE:20160417
DESCRIPTION:Weaver BMX
LOCATION:500 Anniston Street  Weaver AL 36277 USA
SUMMARY:Race for Life Single
URL:/site/bmx_races/308566
END:VEVENT
END:VCALENDAR
