BEGIN:VCALENDAR
VERSION:2.0
PRODID:icalendar-ruby
CALSCALE:GREGORIAN
METHOD:PUBLISH
BEGIN:VEVENT
DTSTAMP:20260426T003152Z
UID:d273922f-e9fb-4ef6-bfe4-63c4ed6c3ec3
DTSTART;VALUE=DATE:20160622
DTEND;VALUE=DATE:20160622
DESCRIPTION:Central Jersey BMX
LOCATION:2449 U.S. 9  Howell NJ 7731 USA
SUMMARY:Local Race Single
URL:/site/bmx_races/308219
END:VEVENT
END:VCALENDAR
