BEGIN:VCALENDAR
VERSION:2.0
PRODID:icalendar-ruby
CALSCALE:GREGORIAN
METHOD:PUBLISH
BEGIN:VEVENT
DTSTAMP:20260424T131232Z
UID:940cc9f2-c38a-43c3-aa93-e61d9b2bcddf
DTSTART;VALUE=DATE:20160817
DTEND;VALUE=DATE:20160817
DESCRIPTION:Park City BMX
LOCATION:6801 N Hydraulic  Park City KS 67219 USA
SUMMARY:Local Race Single
URL:/site/bmx_races/308157
END:VEVENT
END:VCALENDAR
