BEGIN:VCALENDAR
VERSION:2.0
PRODID:icalendar-ruby
CALSCALE:GREGORIAN
METHOD:PUBLISH
BEGIN:VEVENT
DTSTAMP:20260424T195356Z
UID:9d60eeff-b5f8-4958-b5d2-103ecbfe53cb
DTSTART;VALUE=DATE:20160220
DTEND;VALUE=DATE:20160220
DESCRIPTION:Mag Ridge BMX Park
LOCATION:344 Oldtown Crossing  Ridgeland MS 39157 USA
SUMMARY:Local Race Single
URL:/site/bmx_races/307476
END:VEVENT
END:VCALENDAR
