BEGIN:VCALENDAR
VERSION:2.0
PRODID:icalendar-ruby
CALSCALE:GREGORIAN
METHOD:PUBLISH
BEGIN:VEVENT
DTSTAMP:20260425T025502Z
UID:7683581e-6569-404f-90a9-9ea8fb5bebbc
DTSTART;VALUE=DATE:20161112
DTEND;VALUE=DATE:20161112
DESCRIPTION:Santa Maria BMX
LOCATION:4040 Highway 101  Santa Maria CA 93455 USA
SUMMARY:Local Race Single
URL:/site/bmx_races/307023
END:VEVENT
END:VCALENDAR
