BEGIN:VCALENDAR
VERSION:2.0
PRODID:icalendar-ruby
CALSCALE:GREGORIAN
METHOD:PUBLISH
BEGIN:VEVENT
DTSTAMP:20260425T115125Z
UID:9b87a072-c50c-40a7-bc35-dff4ab86609e
DTSTART;VALUE=DATE:20160924
DTEND;VALUE=DATE:20160924
DESCRIPTION:Trilogy Park BMX
LOCATION:75 W King St  Pottstown PA 19464 USA
SUMMARY:Local Race Single
URL:/site/bmx_races/306637
END:VEVENT
END:VCALENDAR
