BEGIN:VCALENDAR
VERSION:2.0
PRODID:icalendar-ruby
CALSCALE:GREGORIAN
METHOD:PUBLISH
BEGIN:VEVENT
DTSTAMP:20260425T125406Z
UID:1cad9cbf-b6de-4558-b915-08acf33443a2
DTSTART;VALUE=DATE:20160705
DTEND;VALUE=DATE:20160705
DESCRIPTION:Grand Valley BMX
LOCATION:2785 U.S. Highway 50  Grand Junction CO 81503 USA
SUMMARY:Local Race Single
URL:/site/bmx_races/306501
END:VEVENT
END:VCALENDAR
