BEGIN:VCALENDAR
VERSION:2.0
PRODID:icalendar-ruby
CALSCALE:GREGORIAN
METHOD:PUBLISH
BEGIN:VEVENT
DTSTAMP:20260424T202358Z
UID:7a984878-9a4e-44c5-9283-ff6ddf6bde6f
DTSTART;VALUE=DATE:20160520
DTEND;VALUE=DATE:20160520
DESCRIPTION:Carson City BMX
LOCATION:1555 Livermore Ln  Carson City NV 89721 USA
SUMMARY:Local Race Single
URL:/site/bmx_races/306350
END:VEVENT
END:VCALENDAR
